BEGIN:VCALENDAR
VERSION:2.0
PRODID:-//nebraskanokill.org//NONSGML kigkonsult.se iCalcreator 2.30.10//
CALSCALE:GREGORIAN
METHOD:PUBLISH
UID:16c6cf5e-8139-4431-b0e5-aa9bb2a98d2f
X-WR-CALDESC:
X-WR-RELCALID:e2ad0a8766557f339bfa35ceb11d499f
X-WR-TIMEZONE:America/Chicago
BEGIN:VTIMEZONE
TZID:America/Chicago
BEGIN:STANDARD
TZNAME:CST
DTSTART:20231105T020000
TZOFFSETFROM:-0500
TZOFFSETTO:-0600
RDATE:20241103T020000
RDATE:20251102T020000
END:STANDARD
BEGIN:DAYLIGHT
TZNAME:CDT
DTSTART:20240310T020000
TZOFFSETFROM:-0600
TZOFFSETTO:-0500
RDATE:20250309T020000
END:DAYLIGHT
END:VTIMEZONE
BEGIN:VEVENT
UID:ce4a190d-292c-4f6b-bea1-cf22695420a5
DTSTAMP:20260421T065908Z
DESCRIPTION:
DTSTART;TZID=America/Chicago:20240609T120000
DTEND;TZID=America/Chicago:20240609T180000
LOCATION:Deer Springs Winery\, 16255 Adams Street\, Lincoln\, NE 68527 US
SUMMARY:LAA Wine & Howl
END:VEVENT
END:VCALENDAR
