BEGIN:VCALENDAR
VERSION:2.0
PRODID:-//nebraskanokill.org//NONSGML kigkonsult.se iCalcreator 2.30.10//
CALSCALE:GREGORIAN
METHOD:PUBLISH
UID:5a948fac-511e-4292-84b9-d4f272d96b87
X-WR-CALDESC:
X-WR-RELCALID:b09ca3a4d24dd255b02bd3471ad97cb9
X-WR-TIMEZONE:America/Chicago
BEGIN:VTIMEZONE
TZID:America/Chicago
BEGIN:STANDARD
TZNAME:CST
DTSTART:20231105T020000
TZOFFSETFROM:-0500
TZOFFSETTO:-0600
RDATE:20241103T020000
RDATE:20251102T020000
END:STANDARD
BEGIN:DAYLIGHT
TZNAME:CDT
DTSTART:20240310T020000
TZOFFSETFROM:-0600
TZOFFSETTO:-0500
RDATE:20250309T020000
END:DAYLIGHT
END:VTIMEZONE
BEGIN:VEVENT
UID:95bb95fb-bdb7-4806-9988-3d108f178a31
DTSTAMP:20260421T070307Z
DESCRIPTION:
DTSTART;TZID=America/Chicago:20240629T050000
DTEND;TZID=America/Chicago:20240629T050001
LOCATION:Lincoln's Telegraph District\, 2001 N Street\, Lincoln\, NE 68510 
 US
SUMMARY:Pup Crawl (2nd Annual)
END:VEVENT
END:VCALENDAR
