BEGIN:VCALENDAR
VERSION:2.0
PRODID:-//nebraskanokill.org//NONSGML kigkonsult.se iCalcreator 2.30.10//
CALSCALE:GREGORIAN
METHOD:PUBLISH
UID:92c47234-6186-424f-a110-2cc99b657557
X-WR-CALDESC:
X-WR-RELCALID:52fff9ac5c37d5f8778445e558d70a5b
X-WR-TIMEZONE:America/Chicago
BEGIN:VTIMEZONE
TZID:America/Chicago
BEGIN:STANDARD
TZNAME:CST
DTSTART:20231105T020000
TZOFFSETFROM:-0500
TZOFFSETTO:-0600
RDATE:20241103T020000
RDATE:20251102T020000
END:STANDARD
BEGIN:DAYLIGHT
TZNAME:CDT
DTSTART:20240310T020000
TZOFFSETFROM:-0600
TZOFFSETTO:-0500
RDATE:20250309T020000
RDATE:20260308T020000
END:DAYLIGHT
END:VTIMEZONE
BEGIN:VEVENT
UID:bc0ff467-c874-43db-b8f1-51ab67f67ff5
DTSTAMP:20260421T070149Z
DESCRIPTION:
DTSTART;TZID=America/Chicago:20240922T050000
DTEND;TZID=America/Chicago:20240922T050001
LOCATION:MoMo Pizzeria and Ristorante\, 7701 Pioneers Blvd #2\, Lincoln\, N
 E 68506 US
SUMMARY:Pooches on the Patio
END:VEVENT
END:VCALENDAR
